BEGIN:VCALENDAR
VERSION:2.0
PRODID:-//Larry Fuller - ECPv6.15.20//NONSGML v1.0//EN
CALSCALE:GREGORIAN
METHOD:PUBLISH
X-WR-CALNAME:Larry Fuller
X-ORIGINAL-URL:https://larryfuller.com
X-WR-CALDESC:Events for Larry Fuller
REFRESH-INTERVAL;VALUE=DURATION:PT1H
X-Robots-Tag:noindex
X-PUBLISHED-TTL:PT1H
BEGIN:VTIMEZONE
TZID:America/New_York
BEGIN:DAYLIGHT
TZOFFSETFROM:-0500
TZOFFSETTO:-0400
TZNAME:EDT
DTSTART:20220313T070000
END:DAYLIGHT
BEGIN:STANDARD
TZOFFSETFROM:-0400
TZOFFSETTO:-0500
TZNAME:EST
DTSTART:20221106T060000
END:STANDARD
BEGIN:DAYLIGHT
TZOFFSETFROM:-0500
TZOFFSETTO:-0400
TZNAME:EDT
DTSTART:20230312T070000
END:DAYLIGHT
BEGIN:STANDARD
TZOFFSETFROM:-0400
TZOFFSETTO:-0500
TZNAME:EST
DTSTART:20231105T060000
END:STANDARD
BEGIN:DAYLIGHT
TZOFFSETFROM:-0500
TZOFFSETTO:-0400
TZNAME:EDT
DTSTART:20240310T070000
END:DAYLIGHT
BEGIN:STANDARD
TZOFFSETFROM:-0400
TZOFFSETTO:-0500
TZNAME:EST
DTSTART:20241103T060000
END:STANDARD
BEGIN:DAYLIGHT
TZOFFSETFROM:-0500
TZOFFSETTO:-0400
TZNAME:EDT
DTSTART:20250309T070000
END:DAYLIGHT
BEGIN:STANDARD
TZOFFSETFROM:-0400
TZOFFSETTO:-0500
TZNAME:EST
DTSTART:20251102T060000
END:STANDARD
END:VTIMEZONE
BEGIN:VEVENT
DTSTART;VALUE=DATE:20240310
DTEND;VALUE=DATE:20240311
DTSTAMP:20260424T091720
CREATED:20231230T181150Z
LAST-MODIFIED:20231230T181150Z
UID:1141-1710028800-1710115199@larryfuller.com
SUMMARY:Larry Fuller Trio
DESCRIPTION:
URL:https://larryfuller.com/event/larry-fuller-trio-126/
LOCATION:Jazz & Blues Showcase @Cunningham Piano Co\, Cherry Hill\, NJ\, US
END:VEVENT
BEGIN:VEVENT
DTSTART;VALUE=DATE:20231220
DTEND;VALUE=DATE:20231221
DTSTAMP:20260424T091720
CREATED:20231129T230806Z
LAST-MODIFIED:20231129T231720Z
UID:1126-1703030400-1703116799@larryfuller.com
SUMMARY:Larry Fuller with Olli Soikkeli Trio
DESCRIPTION:
URL:https://larryfuller.com/event/larry-fuller-with-olli-soikkeli-trio/
LOCATION:Shanghai Jazz\, Madison\, NJ
END:VEVENT
BEGIN:VEVENT
DTSTART;VALUE=DATE:20231217
DTEND;VALUE=DATE:20231218
DTSTAMP:20260424T091720
CREATED:20231215T150838Z
LAST-MODIFIED:20231215T150838Z
UID:1136-1702771200-1702857599@larryfuller.com
SUMMARY:Larry Fuller with Chuck Redd Duo
DESCRIPTION:
URL:https://larryfuller.com/event/larry-fuller-with-chuck-redd-duo/
LOCATION:Holiday Jazz Concert – Holy Trinity\, 502 S. Morris Street\, Oxford\, MD\, United States
END:VEVENT
BEGIN:VEVENT
DTSTART;VALUE=DATE:20231209
DTEND;VALUE=DATE:20231210
DTSTAMP:20260424T091720
CREATED:20231103T205545Z
LAST-MODIFIED:20231109T130920Z
UID:1118-1702080000-1702166399@larryfuller.com
SUMMARY:Larry Fuller Trio
DESCRIPTION:
URL:https://larryfuller.com/event/larry-fuller-trio-122/
LOCATION:The Side Door\, Old Lyme\, CT
END:VEVENT
BEGIN:VEVENT
DTSTART;VALUE=DATE:20231208
DTEND;VALUE=DATE:20231209
DTSTAMP:20260424T091720
CREATED:20231103T205431Z
LAST-MODIFIED:20231109T130535Z
UID:1117-1701993600-1702079999@larryfuller.com
SUMMARY:Larry Fuller Trio
DESCRIPTION:
URL:https://larryfuller.com/event/larry-fuller-trio-121/
LOCATION:The Side Door\, Old Lyme\, CT
END:VEVENT
BEGIN:VEVENT
DTSTART;VALUE=DATE:20230827
DTEND;VALUE=DATE:20230828
DTSTAMP:20260424T091720
CREATED:20230821T215519Z
LAST-MODIFIED:20230821T215519Z
UID:933-1693094400-1693180799@larryfuller.com
SUMMARY:John Pizzarelli Trio
DESCRIPTION:
URL:https://larryfuller.com/event/john-pizzarelli-trio-3/
LOCATION:Catalina’s\, Los Angeles\, CA
END:VEVENT
BEGIN:VEVENT
DTSTART;VALUE=DATE:20230826
DTEND;VALUE=DATE:20230827
DTSTAMP:20260424T091720
CREATED:20230821T215430Z
LAST-MODIFIED:20230821T215430Z
UID:931-1693008000-1693094399@larryfuller.com
SUMMARY:John Pizzarelli Trio
DESCRIPTION:
URL:https://larryfuller.com/event/john-pizzarelli-trio-2/
LOCATION:Catalina’s\, Los Angeles\, CA
END:VEVENT
BEGIN:VEVENT
DTSTART;VALUE=DATE:20230825
DTEND;VALUE=DATE:20230826
DTSTAMP:20260424T091720
CREATED:20230821T215343Z
LAST-MODIFIED:20230821T215343Z
UID:929-1692921600-1693007999@larryfuller.com
SUMMARY:John Pizzarelli Trio
DESCRIPTION:
URL:https://larryfuller.com/event/john-pizzarelli-trio/
LOCATION:Catalina’s\, Los Angeles\, CA
END:VEVENT
BEGIN:VEVENT
DTSTART;VALUE=DATE:20230823
DTEND;VALUE=DATE:20230824
DTSTAMP:20260424T091720
CREATED:20230821T215208Z
LAST-MODIFIED:20230821T215208Z
UID:928-1692748800-1692835199@larryfuller.com
SUMMARY:John Pizzarelli Trio & Jeff Hamilton
DESCRIPTION:
URL:https://larryfuller.com/event/john-pizzarelli-trio-jeff-hamilton-2/
LOCATION:Sunset Jazz at Newport Beach\, Newport Beach\, CA
END:VEVENT
BEGIN:VEVENT
DTSTART;VALUE=DATE:20230822
DTEND;VALUE=DATE:20230823
DTSTAMP:20260424T091720
CREATED:20230821T215059Z
LAST-MODIFIED:20230821T215059Z
UID:926-1692662400-1692748799@larryfuller.com
SUMMARY:John Pizzarelli Trio & Jeff Hamilton
DESCRIPTION:
URL:https://larryfuller.com/event/john-pizzarelli-trio-jeff-hamilton/
LOCATION:Sunset Jazz at Newport Beach\, Newport Beach\, CA
END:VEVENT
BEGIN:VEVENT
DTSTART;VALUE=DATE:20230808
DTEND;VALUE=DATE:20230809
DTSTAMP:20260424T091720
CREATED:20230717T201646Z
LAST-MODIFIED:20230821T204609Z
UID:71-1691452800-1691539199@larryfuller.com
SUMMARY:The Jazz Loft Presents: Larry Fuller\, Dean Johnson\, Tom Manuel\, Dan Pugach
DESCRIPTION:
URL:https://larryfuller.com/event/the-jazz-loft-presents-larry-fuller-dean-johnson-tom-manuel-dan-pugach/
LOCATION:Stony Brook University – Simons Center\, Stony Brook\, NY\, US
END:VEVENT
BEGIN:VEVENT
DTSTART;TZID=America/New_York:20230804T000000
DTEND;TZID=America/New_York:20230804T000000
DTSTAMP:20260424T091720
CREATED:20230717T201647Z
LAST-MODIFIED:20230816T223257Z
UID:72-1691107200-1691107200@larryfuller.com
SUMMARY:Fuller Clayton Hamilton Trio
DESCRIPTION:
URL:https://larryfuller.com/event/fuller-clayton-hamilton-trio/
LOCATION:Bacchus Kitchen\, Pasadena\, CA\, US
END:VEVENT
BEGIN:VEVENT
DTSTART;TZID=America/New_York:20230725T000000
DTEND;TZID=America/New_York:20230725T000000
DTSTAMP:20260424T091720
CREATED:20230717T201648Z
LAST-MODIFIED:20230816T223258Z
UID:73-1690243200-1690243200@larryfuller.com
SUMMARY:Artist in Residence - Mercer County Community College Summer Jazz Program
DESCRIPTION:
URL:https://larryfuller.com/event/artist-in-residence-mercer-county-community-college-summer-jazz-program/
LOCATION:Mercer County Community College\, West Windsor\, NJ\, US
END:VEVENT
BEGIN:VEVENT
DTSTART;TZID=America/New_York:20230611T000000
DTEND;TZID=America/New_York:20230611T000000
DTSTAMP:20260424T091720
CREATED:20230717T201648Z
LAST-MODIFIED:20230816T223258Z
UID:74-1686441600-1686441600@larryfuller.com
SUMMARY:Larry Fuller Trio
DESCRIPTION:
URL:https://larryfuller.com/event/larry-fuller-trio/
LOCATION:Jazz & Blues Showcase @Cunningham Piano Co\, Cherry Hill\, NJ\, US
END:VEVENT
BEGIN:VEVENT
DTSTART;TZID=America/New_York:20230520T000000
DTEND;TZID=America/New_York:20230520T000000
DTSTAMP:20260424T091720
CREATED:20230717T201649Z
LAST-MODIFIED:20230816T223259Z
UID:75-1684540800-1684540800@larryfuller.com
SUMMARY:Larry Fuller Trio
DESCRIPTION:
URL:https://larryfuller.com/event/larry-fuller-trio-2/
LOCATION:The Jazz Loft\, Stony Brook\, NY
END:VEVENT
BEGIN:VEVENT
DTSTART;TZID=America/New_York:20230506T000000
DTEND;TZID=America/New_York:20230506T000000
DTSTAMP:20260424T091720
CREATED:20230717T201652Z
LAST-MODIFIED:20230816T223259Z
UID:76-1683331200-1683331200@larryfuller.com
SUMMARY:Larry Fuller joins the Toledo Jazz Orchestra
DESCRIPTION:
URL:https://larryfuller.com/event/larry-fuller-joins-the-toledo-jazz-orchestra/
LOCATION:Peristyle Theater\, Toledo Museum of Art\, Toledo\, OH\, US
END:VEVENT
BEGIN:VEVENT
DTSTART;TZID=America/New_York:20230430T000000
DTEND;TZID=America/New_York:20230430T000000
DTSTAMP:20260424T091720
CREATED:20230717T201652Z
LAST-MODIFIED:20230816T223259Z
UID:77-1682812800-1682812800@larryfuller.com
SUMMARY:Martin Pizzarelli Trio feat. Larry Fuller & Ricardo Baldacci
DESCRIPTION:
URL:https://larryfuller.com/event/martin-pizzarelli-trio-feat-larry-fuller-ricardo-baldacci/
LOCATION:Santos Jazz Fest\, Santos\, BR
END:VEVENT
BEGIN:VEVENT
DTSTART;TZID=America/New_York:20230429T000000
DTEND;TZID=America/New_York:20230429T000000
DTSTAMP:20260424T091720
CREATED:20230717T201653Z
LAST-MODIFIED:20230816T223300Z
UID:78-1682726400-1682726400@larryfuller.com
SUMMARY:Martin Pizzarelli Trio feat. Larry Fuller & Ricardo Baldacci
DESCRIPTION:
URL:https://larryfuller.com/event/martin-pizzarelli-trio-feat-larry-fuller-ricardo-baldacci-2/
LOCATION:Blue Note – Sao Paulo\, Sao Paulo\, BR
END:VEVENT
BEGIN:VEVENT
DTSTART;TZID=America/New_York:20230428T000000
DTEND;TZID=America/New_York:20230428T000000
DTSTAMP:20260424T091720
CREATED:20230717T201653Z
LAST-MODIFIED:20230816T223300Z
UID:79-1682640000-1682640000@larryfuller.com
SUMMARY:Martin Pizzarelli Trio feat. Larry Fuller & Ricardo Baldacci
DESCRIPTION:
URL:https://larryfuller.com/event/martin-pizzarelli-trio-feat-larry-fuller-ricardo-baldacci-3/
LOCATION:Manouche “Jazz Nights” – Rio – BRAZIL\, Rio Brazil\, US
END:VEVENT
BEGIN:VEVENT
DTSTART;TZID=America/New_York:20230423T000000
DTEND;TZID=America/New_York:20230423T000000
DTSTAMP:20260424T091720
CREATED:20230717T201654Z
LAST-MODIFIED:20230816T223300Z
UID:80-1682208000-1682208000@larryfuller.com
SUMMARY:Martin Pizzarelli Trio feat. Larry Fuller & Ricardo Baldacci
DESCRIPTION:
URL:https://larryfuller.com/event/martin-pizzarelli-trio-feat-larry-fuller-ricardo-baldacci-4/
LOCATION:Brasil Nativo Club\, Curitiba\, BR
END:VEVENT
BEGIN:VEVENT
DTSTART;TZID=America/New_York:20230422T000000
DTEND;TZID=America/New_York:20230422T000000
DTSTAMP:20260424T091720
CREATED:20230717T201710Z
LAST-MODIFIED:20230816T223301Z
UID:81-1682121600-1682121600@larryfuller.com
SUMMARY:Martin Pizzarelli Trio feat. Larry Fuller & Ricardo Baldacci
DESCRIPTION:
URL:https://larryfuller.com/event/martin-pizzarelli-trio-feat-larry-fuller-ricardo-baldacci-5/
LOCATION:Brasil Nativo Club\, Curitiba\, BR
END:VEVENT
BEGIN:VEVENT
DTSTART;TZID=America/New_York:20230420T000000
DTEND;TZID=America/New_York:20230420T000000
DTSTAMP:20260424T091720
CREATED:20230717T201711Z
LAST-MODIFIED:20230816T223301Z
UID:82-1681948800-1681948800@larryfuller.com
SUMMARY:Martin Pizzarelli Trio feat. Larry Fuller & Ricardo Baldacci
DESCRIPTION:
URL:https://larryfuller.com/event/martin-pizzarelli-trio-feat-larry-fuller-ricardo-baldacci-6/
LOCATION:Espaco 373\, Porto Alegre\, BR
END:VEVENT
BEGIN:VEVENT
DTSTART;TZID=America/New_York:20230415T000000
DTEND;TZID=America/New_York:20230415T000000
DTSTAMP:20260424T091720
CREATED:20230717T201711Z
LAST-MODIFIED:20230816T223302Z
UID:83-1681516800-1681516800@larryfuller.com
SUMMARY:Martin Pizzarelli Trio feat. Larry Fuller & Ricardo Baldacci
DESCRIPTION:
URL:https://larryfuller.com/event/martin-pizzarelli-trio-feat-larry-fuller-ricardo-baldacci-7/
LOCATION:Bebop Club Buenos Aires\, Buenos Aires\, AR
END:VEVENT
BEGIN:VEVENT
DTSTART;TZID=America/New_York:20230414T000000
DTEND;TZID=America/New_York:20230414T000000
DTSTAMP:20260424T091720
CREATED:20230717T201712Z
LAST-MODIFIED:20230816T223302Z
UID:84-1681430400-1681430400@larryfuller.com
SUMMARY:Martin Pizzarelli Trio feat. Larry Fuller & Ricardo Baldacci
DESCRIPTION:
URL:https://larryfuller.com/event/martin-pizzarelli-trio-feat-larry-fuller-ricardo-baldacci-8/
LOCATION:Bebop Club Buenos Aires\, Buenos Aires\, AR
END:VEVENT
BEGIN:VEVENT
DTSTART;TZID=America/New_York:20230411T000000
DTEND;TZID=America/New_York:20230411T000000
DTSTAMP:20260424T091720
CREATED:20230717T201713Z
LAST-MODIFIED:20230816T223303Z
UID:85-1681171200-1681171200@larryfuller.com
SUMMARY:Martin Pizzarelli Trio feat. Larry Fuller & Ricardo Baldacci
DESCRIPTION:
URL:https://larryfuller.com/event/martin-pizzarelli-trio-feat-larry-fuller-ricardo-baldacci-9/
LOCATION:Brazil Tour\, Brazil\, US
END:VEVENT
BEGIN:VEVENT
DTSTART;TZID=America/New_York:20230401T000000
DTEND;TZID=America/New_York:20230401T000000
DTSTAMP:20260424T091720
CREATED:20230717T201722Z
LAST-MODIFIED:20230816T223304Z
UID:86-1680307200-1680307200@larryfuller.com
SUMMARY:Larry Fuller Trio
DESCRIPTION:
URL:https://larryfuller.com/event/larry-fuller-trio-3/
LOCATION:The Jazz Corner\, Hilton Head\, SC
END:VEVENT
BEGIN:VEVENT
DTSTART;TZID=America/New_York:20230331T000000
DTEND;TZID=America/New_York:20230331T000000
DTSTAMP:20260424T091720
CREATED:20230717T201722Z
LAST-MODIFIED:20230816T223304Z
UID:87-1680220800-1680220800@larryfuller.com
SUMMARY:Larry Fuller Trio
DESCRIPTION:
URL:https://larryfuller.com/event/larry-fuller-trio-4/
LOCATION:The Jazz Corner\, Hilton Head\, SC
END:VEVENT
BEGIN:VEVENT
DTSTART;TZID=America/New_York:20230325T000000
DTEND;TZID=America/New_York:20230325T000000
DTSTAMP:20260424T091720
CREATED:20230717T201723Z
LAST-MODIFIED:20230816T223305Z
UID:88-1679702400-1679702400@larryfuller.com
SUMMARY:Houston Person
DESCRIPTION:
URL:https://larryfuller.com/event/houston-person/
LOCATION:Jazz Forum Arts\, Tarrytown\, NY\, US
END:VEVENT
BEGIN:VEVENT
DTSTART;TZID=America/New_York:20230324T000000
DTEND;TZID=America/New_York:20230324T000000
DTSTAMP:20260424T091720
CREATED:20230717T201724Z
LAST-MODIFIED:20230816T223305Z
UID:89-1679616000-1679616000@larryfuller.com
SUMMARY:Houston Person
DESCRIPTION:
URL:https://larryfuller.com/event/houston-person-2/
LOCATION:Jazz Forum Arts\, Tarrytown\, NY\, US
END:VEVENT
BEGIN:VEVENT
DTSTART;TZID=America/New_York:20230225T000000
DTEND;TZID=America/New_York:20230225T000000
DTSTAMP:20260424T091720
CREATED:20230717T201724Z
LAST-MODIFIED:20230816T223305Z
UID:90-1677283200-1677283200@larryfuller.com
SUMMARY:Jeff Hamilton Trio
DESCRIPTION:
URL:https://larryfuller.com/event/jeff-hamilton-trio/
LOCATION:Brigham Young University\, Provo\, UT\, US
END:VEVENT
END:VCALENDAR